Package: SCOPE Version: 1.18.0 Command: /Library/Frameworks/R.framework/Resources/bin/R CMD INSTALL SCOPE StartedAt: 2025-02-10 15:36:38 -0500 (Mon, 10 Feb 2025) EndedAt: 2025-02-10 15:37:55 -0500 (Mon, 10 Feb 2025) EllapsedTime: 77.2 seconds RetCode: 0 Status: OK