Package: SCOPE Version: 1.18.0 Command: /home/biocbuild/R/R/bin/R CMD INSTALL SCOPE StartedAt: 2025-02-10 20:30:09 -0000 (Mon, 10 Feb 2025) EndedAt: 2025-02-10 20:30:52 -0000 (Mon, 10 Feb 2025) EllapsedTime: 43.6 seconds RetCode: 0 Status: OK