Package: SCnorm Version: 1.28.0 Command: /Library/Frameworks/R.framework/Resources/bin/R CMD build --keep-empty-dirs --no-resave-data SCnorm StartedAt: 2025-02-04 07:38:09 -0500 (Tue, 04 Feb 2025) EndedAt: 2025-02-04 07:40:25 -0500 (Tue, 04 Feb 2025) EllapsedTime: 136.5 seconds RetCode: 0 Status: OK PackageFile: SCnorm_1.28.0.tar.gz PackageFileSize: 2.974 MiB