Package: SCnorm Version: 1.28.0 Command: /Library/Frameworks/R.framework/Resources/bin/R CMD build --keep-empty-dirs --no-resave-data SCnorm StartedAt: 2025-02-03 22:06:41 -0500 (Mon, 03 Feb 2025) EndedAt: 2025-02-03 22:10:57 -0500 (Mon, 03 Feb 2025) EllapsedTime: 256.4 seconds RetCode: 0 Status: OK PackageFile: SCnorm_1.28.0.tar.gz PackageFileSize: 2.974 MiB