Package: SCnorm Version: 1.28.0 Command: /Library/Frameworks/R.framework/Resources/bin/R CMD INSTALL SCnorm StartedAt: 2025-02-03 16:18:08 -0500 (Mon, 03 Feb 2025) EndedAt: 2025-02-03 16:19:05 -0500 (Mon, 03 Feb 2025) EllapsedTime: 57.4 seconds RetCode: 0 Status: OK