Package: SCnorm Version: 1.28.0 Command: /home/biocbuild/R/R/bin/R CMD build --keep-empty-dirs --no-resave-data SCnorm StartedAt: 2025-02-11 02:22:39 -0000 (Tue, 11 Feb 2025) EndedAt: 2025-02-11 02:24:46 -0000 (Tue, 11 Feb 2025) EllapsedTime: 127.0 seconds RetCode: 0 Status: OK PackageFile: SCnorm_1.28.0.tar.gz PackageFileSize: 2.966 MiB