Package: SELEX Version: 1.38.0 Command: /Library/Frameworks/R.framework/Resources/bin/R CMD build --keep-empty-dirs --no-resave-data SELEX StartedAt: 2025-02-04 08:01:33 -0500 (Tue, 04 Feb 2025) EndedAt: 2025-02-04 08:02:09 -0500 (Tue, 04 Feb 2025) EllapsedTime: 35.2 seconds RetCode: 0 Status: OK PackageFile: SELEX_1.38.0.tar.gz PackageFileSize: 4.034 MiB