Package: SELEX Version: 1.38.0 Command: /Library/Frameworks/R.framework/Resources/bin/R CMD check --install=check:SELEX.install-out.txt --library=/Library/Frameworks/R.framework/Resources/library --no-vignettes --timings SELEX_1.38.0.tar.gz StartedAt: 2025-02-05 09:52:35 -0500 (Wed, 05 Feb 2025) EndedAt: 2025-02-05 09:54:34 -0500 (Wed, 05 Feb 2025) EllapsedTime: 119.3 seconds RetCode: 0 Status: OK CheckDir: SELEX.Rcheck Warnings: 0