Package: SELEX Version: 1.38.0 Command: rm -rf SELEX.buildbin-libdir && mkdir SELEX.buildbin-libdir && /Users/biocbuild/BBS/utils/build-universal.sh SELEX_1.38.0.tar.gz /Library/Frameworks/R.framework/Resources/bin/R SELEX.buildbin-libdir StartedAt: 2025-02-11 14:30:19 -0500 (Tue, 11 Feb 2025) EndedAt: 2025-02-11 14:30:51 -0500 (Tue, 11 Feb 2025) EllapsedTime: 32.2 seconds RetCode: 0 Status: OK PackageFile: SELEX_1.38.0.tgz PackageFileSize: 2.861 MiB