Package: SELEX Version: 1.38.0 Command: /Library/Frameworks/R.framework/Resources/bin/R CMD build --keep-empty-dirs --no-resave-data SELEX StartedAt: 2025-02-03 22:15:20 -0500 (Mon, 03 Feb 2025) EndedAt: 2025-02-03 22:16:16 -0500 (Mon, 03 Feb 2025) EllapsedTime: 55.9 seconds RetCode: 0 Status: OK PackageFile: SELEX_1.38.0.tar.gz PackageFileSize: 4.034 MiB