Package: SELEX Version: 1.38.0 Command: /Library/Frameworks/R.framework/Resources/bin/R CMD INSTALL SELEX StartedAt: 2025-02-03 15:23:32 -0500 (Mon, 03 Feb 2025) EndedAt: 2025-02-03 15:23:57 -0500 (Mon, 03 Feb 2025) EllapsedTime: 25.5 seconds RetCode: 0 Status: OK