Package: SELEX Version: 1.38.0 Command: chmod a+r SELEX -R && F:\biocbuild\bbs-3.20-bioc\R\bin\R.exe CMD build --keep-empty-dirs --no-resave-data SELEX StartedAt: 2025-02-03 22:04:51 -0500 (Mon, 03 Feb 2025) EndedAt: 2025-02-03 22:05:40 -0500 (Mon, 03 Feb 2025) EllapsedTime: 48.9 seconds RetCode: 0 Status: OK PackageFile: SELEX_1.38.0.tar.gz PackageFileSize: 4.109 MiB