Package: SELEX Version: 1.38.0 Command: F:\biocbuild\bbs-3.20-bioc\R\bin\R.exe CMD INSTALL SELEX StartedAt: 2025-02-10 15:49:36 -0500 (Mon, 10 Feb 2025) EndedAt: 2025-02-10 15:49:58 -0500 (Mon, 10 Feb 2025) EllapsedTime: 22.0 seconds RetCode: 0 Status: OK