Package: SGCP Version: 1.6.0 Command: /Library/Frameworks/R.framework/Resources/bin/R CMD build --keep-empty-dirs --no-resave-data SGCP StartedAt: 2025-02-03 22:19:01 -0500 (Mon, 03 Feb 2025) EndedAt: 2025-02-03 22:22:50 -0500 (Mon, 03 Feb 2025) EllapsedTime: 229.2 seconds RetCode: 0 Status: OK PackageFile: SGCP_1.6.0.tar.gz PackageFileSize: 2.69 MiB