Package: SGCP Version: 1.6.0 Command: /home/biocbuild/bbs-3.20-bioc/R/bin/R CMD INSTALL SGCP StartedAt: 2025-02-03 16:05:18 -0500 (Mon, 03 Feb 2025) EndedAt: 2025-02-03 16:06:19 -0500 (Mon, 03 Feb 2025) EllapsedTime: 61.0 seconds RetCode: 0 Status: OK