Package: SGCP Version: 1.6.0 Command: /home/biocbuild/R/R/bin/R CMD check --install=check:SGCP.install-out.txt --library=/home/biocbuild/R/R/site-library --no-vignettes --timings SGCP_1.6.0.tar.gz StartedAt: 2025-02-04 11:03:21 -0000 (Tue, 04 Feb 2025) EndedAt: 2025-02-04 11:08:55 -0000 (Tue, 04 Feb 2025) EllapsedTime: 334.5 seconds RetCode: 0 Status: OK CheckDir: SGCP.Rcheck Warnings: 0