Package: SGCP Version: 1.6.0 Command: /home/biocbuild/R/R/bin/R CMD INSTALL SGCP StartedAt: 2025-02-03 21:19:37 -0000 (Mon, 03 Feb 2025) EndedAt: 2025-02-03 21:20:42 -0000 (Mon, 03 Feb 2025) EllapsedTime: 64.7 seconds RetCode: 0 Status: OK