Package: SIAMCAT Version: 2.10.0 Command: /Library/Frameworks/R.framework/Resources/bin/R CMD build --keep-empty-dirs --no-resave-data SIAMCAT StartedAt: 2025-02-03 22:20:37 -0500 (Mon, 03 Feb 2025) EndedAt: 2025-02-03 22:27:27 -0500 (Mon, 03 Feb 2025) EllapsedTime: 410.6 seconds RetCode: 0 Status: OK PackageFile: SIAMCAT_2.10.0.tar.gz PackageFileSize: 18.86 MiB