Package: SIAMCAT Version: 2.10.0 Command: /Library/Frameworks/R.framework/Resources/bin/R CMD check --install=check:SIAMCAT.install-out.txt --library=/Library/Frameworks/R.framework/Resources/library --no-vignettes --timings SIAMCAT_2.10.0.tar.gz StartedAt: 2025-02-04 10:09:17 -0500 (Tue, 04 Feb 2025) EndedAt: 2025-02-04 10:19:10 -0500 (Tue, 04 Feb 2025) EllapsedTime: 592.8 seconds RetCode: 0 Status: OK CheckDir: SIAMCAT.Rcheck Warnings: 0