Package: SIAMCAT Version: 2.10.0 Command: rm -rf SIAMCAT.buildbin-libdir && mkdir SIAMCAT.buildbin-libdir && F:\biocbuild\bbs-3.20-bioc\R\bin\R.exe CMD INSTALL --build --library=SIAMCAT.buildbin-libdir SIAMCAT_2.10.0.tar.gz StartedAt: 2025-02-04 09:31:21 -0500 (Tue, 04 Feb 2025) EndedAt: 2025-02-04 09:33:02 -0500 (Tue, 04 Feb 2025) EllapsedTime: 100.9 seconds RetCode: 0 Status: OK PackageFile: SIAMCAT_2.10.0.zip PackageFileSize: 10.35 MiB