Package: SIAMCAT Version: 2.10.0 Command: chmod a+r SIAMCAT -R && F:\biocbuild\bbs-3.20-bioc\R\bin\R.exe CMD build --keep-empty-dirs --no-resave-data SIAMCAT StartedAt: 2025-02-03 22:09:13 -0500 (Mon, 03 Feb 2025) EndedAt: 2025-02-03 22:15:00 -0500 (Mon, 03 Feb 2025) EllapsedTime: 346.8 seconds RetCode: 0 Status: OK PackageFile: SIAMCAT_2.10.0.tar.gz PackageFileSize: 18.5 MiB