Package: SIAMCAT Version: 2.10.0 Command: /home/biocbuild/R/R/bin/R CMD check --install=check:SIAMCAT.install-out.txt --library=/home/biocbuild/R/R/site-library --no-vignettes --timings SIAMCAT_2.10.0.tar.gz StartedAt: 2025-02-11 10:26:02 -0000 (Tue, 11 Feb 2025) EndedAt: 2025-02-11 10:31:29 -0000 (Tue, 11 Feb 2025) EllapsedTime: 326.6 seconds RetCode: 0 Status: OK CheckDir: SIAMCAT.Rcheck Warnings: 0