Package: SIAMCAT Version: 2.10.0 Command: /home/biocbuild/R/R/bin/R CMD INSTALL SIAMCAT StartedAt: 2025-02-10 20:56:35 -0000 (Mon, 10 Feb 2025) EndedAt: 2025-02-10 20:57:12 -0000 (Mon, 10 Feb 2025) EllapsedTime: 37.1 seconds RetCode: 0 Status: OK