Package: SICtools Version: 1.36.0 Command: /Library/Frameworks/R.framework/Resources/bin/R CMD build --keep-empty-dirs --no-resave-data SICtools StartedAt: 2025-02-03 22:20:40 -0500 (Mon, 03 Feb 2025) EndedAt: 2025-02-03 22:22:19 -0500 (Mon, 03 Feb 2025) EllapsedTime: 98.7 seconds RetCode: 0 Status: OK PackageFile: SICtools_1.36.0.tar.gz PackageFileSize: 1.531 MiB