Package: SICtools Version: 1.36.0 Command: /home/biocbuild/bbs-3.20-bioc/R/bin/R CMD build --keep-empty-dirs --no-resave-data --md5 SICtools StartedAt: 2025-02-03 19:19:54 -0500 (Mon, 03 Feb 2025) EndedAt: 2025-02-03 19:20:39 -0500 (Mon, 03 Feb 2025) EllapsedTime: 45.1 seconds RetCode: 0 Status: OK PackageFile: SICtools_1.36.0.tar.gz PackageFileSize: 1.536 MiB