Package: SICtools Version: 1.36.0 Command: /home/biocbuild/bbs-3.20-bioc/R/bin/R CMD INSTALL SICtools StartedAt: 2025-02-10 15:28:18 -0500 (Mon, 10 Feb 2025) EndedAt: 2025-02-10 15:28:52 -0500 (Mon, 10 Feb 2025) EllapsedTime: 34.5 seconds RetCode: 0 Status: OK