Package: SIMAT Version: 1.38.0 Command: /Library/Frameworks/R.framework/Resources/bin/R CMD INSTALL SIMAT StartedAt: 2025-02-10 15:30:47 -0500 (Mon, 10 Feb 2025) EndedAt: 2025-02-10 15:30:55 -0500 (Mon, 10 Feb 2025) EllapsedTime: 8.2 seconds RetCode: 0 Status: OK