Package: SIMAT Version: 1.38.0 Command: /Library/Frameworks/R.framework/Resources/bin/R CMD build --keep-empty-dirs --no-resave-data SIMAT StartedAt: 2025-02-03 22:22:38 -0500 (Mon, 03 Feb 2025) EndedAt: 2025-02-03 22:23:22 -0500 (Mon, 03 Feb 2025) EllapsedTime: 44.1 seconds RetCode: 0 Status: OK PackageFile: SIMAT_1.38.0.tar.gz PackageFileSize: 1.038 MiB