Package: SIMAT Version: 1.38.0 Command: rm -rf SIMAT.buildbin-libdir && mkdir SIMAT.buildbin-libdir && F:\biocbuild\bbs-3.20-bioc\R\bin\R.exe CMD INSTALL --build --library=SIMAT.buildbin-libdir SIMAT_1.38.0.tar.gz StartedAt: 2025-02-11 09:30:31 -0500 (Tue, 11 Feb 2025) EndedAt: 2025-02-11 09:30:49 -0500 (Tue, 11 Feb 2025) EllapsedTime: 18.1 seconds RetCode: 0 Status: OK PackageFile: SIMAT_1.38.0.zip PackageFileSize: 1.073 MiB