Package: SIMAT Version: 1.38.0 Command: F:\biocbuild\bbs-3.20-bioc\R\bin\R.exe CMD INSTALL SIMAT StartedAt: 2025-02-10 15:55:49 -0500 (Mon, 10 Feb 2025) EndedAt: 2025-02-10 15:56:09 -0500 (Mon, 10 Feb 2025) EllapsedTime: 20.0 seconds RetCode: 0 Status: OK