Package: SIMAT Version: 1.38.0 Command: /home/biocbuild/R/R/bin/R CMD build --keep-empty-dirs --no-resave-data SIMAT StartedAt: 2025-02-04 03:01:05 -0000 (Tue, 04 Feb 2025) EndedAt: 2025-02-04 03:01:32 -0000 (Tue, 04 Feb 2025) EllapsedTime: 27.0 seconds RetCode: 0 Status: OK PackageFile: SIMAT_1.38.0.tar.gz PackageFileSize: 1.033 MiB