Package: SNAGEE Version: 1.46.0 Command: /Library/Frameworks/R.framework/Resources/bin/R CMD build --keep-empty-dirs --no-resave-data SNAGEE StartedAt: 2025-01-31 08:23:35 -0500 (Fri, 31 Jan 2025) EndedAt: 2025-01-31 08:24:23 -0500 (Fri, 31 Jan 2025) EllapsedTime: 47.7 seconds RetCode: 0 Status: OK PackageFile: SNAGEE_1.46.0.tar.gz PackageFileSize: 169.3 KiB