Package: SNAGEE Version: 1.46.0 Command: /Library/Frameworks/R.framework/Resources/bin/R CMD INSTALL SNAGEE StartedAt: 2025-01-30 15:03:12 -0500 (Thu, 30 Jan 2025) EndedAt: 2025-01-30 15:03:15 -0500 (Thu, 30 Jan 2025) EllapsedTime: 3.0 seconds RetCode: 0 Status: OK