Package: SNAGEE Version: 1.46.0 Command: /Library/Frameworks/R.framework/Resources/bin/R CMD check --install=check:SNAGEE.install-out.txt --library=/Library/Frameworks/R.framework/Resources/library --no-vignettes --timings SNAGEE_1.46.0.tar.gz StartedAt: 2025-01-31 10:19:55 -0500 (Fri, 31 Jan 2025) EndedAt: 2025-01-31 10:20:54 -0500 (Fri, 31 Jan 2025) EllapsedTime: 59.5 seconds RetCode: 0 Status: OK CheckDir: SNAGEE.Rcheck Warnings: 0