Package: SNAGEE Version: 1.46.0 Command: chmod a+r SNAGEE -R && F:\biocbuild\bbs-3.20-bioc\R\bin\R.exe CMD build --keep-empty-dirs --no-resave-data SNAGEE StartedAt: 2025-02-03 22:15:01 -0500 (Mon, 03 Feb 2025) EndedAt: 2025-02-03 22:15:59 -0500 (Mon, 03 Feb 2025) EllapsedTime: 58.7 seconds RetCode: 0 Status: OK PackageFile: SNAGEE_1.46.0.tar.gz PackageFileSize: 72.46 KiB