Package: SNAGEE Version: 1.46.0 Command: /home/biocbuild/R/R/bin/R CMD build --keep-empty-dirs --no-resave-data SNAGEE StartedAt: 2025-02-11 02:42:37 -0000 (Tue, 11 Feb 2025) EndedAt: 2025-02-11 02:44:43 -0000 (Tue, 11 Feb 2025) EllapsedTime: 126.0 seconds RetCode: 0 Status: OK PackageFile: SNAGEE_1.46.0.tar.gz PackageFileSize: 165.4 KiB