Package: SNAGEE Version: 1.46.0 Command: /home/biocbuild/R/R/bin/R CMD check --install=check:SNAGEE.install-out.txt --library=/home/biocbuild/R/R/site-library --no-vignettes --timings SNAGEE_1.46.0.tar.gz StartedAt: 2025-02-04 11:13:05 -0000 (Tue, 04 Feb 2025) EndedAt: 2025-02-04 11:15:38 -0000 (Tue, 04 Feb 2025) EllapsedTime: 153.2 seconds RetCode: 0 Status: OK CheckDir: SNAGEE.Rcheck Warnings: 0