Package: SNPRelate Version: 1.40.0 Command: /Library/Frameworks/R.framework/Resources/bin/R CMD build --keep-empty-dirs --no-resave-data SNPRelate StartedAt: 2024-11-19 18:45:24 -0500 (Tue, 19 Nov 2024) EndedAt: 2024-11-19 18:46:27 -0500 (Tue, 19 Nov 2024) EllapsedTime: 63.8 seconds RetCode: 0 Status: OK PackageFile: SNPRelate_1.40.0.tar.gz PackageFileSize: 3.348 MiB