Package: SNPRelate Version: 1.40.0 Command: /Library/Frameworks/R.framework/Resources/bin/R CMD build --keep-empty-dirs --no-resave-data SNPRelate StartedAt: 2025-02-10 22:30:57 -0500 (Mon, 10 Feb 2025) EndedAt: 2025-02-10 22:32:39 -0500 (Mon, 10 Feb 2025) EllapsedTime: 101.9 seconds RetCode: 0 Status: OK PackageFile: SNPRelate_1.40.0.tar.gz PackageFileSize: 3.348 MiB