Package: SNPRelate Version: 1.40.0 Command: /Library/Frameworks/R.framework/Resources/bin/R CMD check --install=check:SNPRelate.install-out.txt --library=/Library/Frameworks/R.framework/Resources/library --no-vignettes --timings SNPRelate_1.40.0.tar.gz StartedAt: 2025-02-11 10:41:40 -0500 (Tue, 11 Feb 2025) EndedAt: 2025-02-11 10:45:05 -0500 (Tue, 11 Feb 2025) EllapsedTime: 204.5 seconds RetCode: 0 Status: OK CheckDir: SNPRelate.Rcheck Warnings: 0