Package: SNPRelate Version: 1.40.0 Command: chmod a+r SNPRelate -R && F:\biocbuild\bbs-3.20-bioc\R\bin\R.exe CMD build --keep-empty-dirs --no-resave-data SNPRelate StartedAt: 2025-02-03 22:15:48 -0500 (Mon, 03 Feb 2025) EndedAt: 2025-02-03 22:17:50 -0500 (Mon, 03 Feb 2025) EllapsedTime: 121.7 seconds RetCode: 0 Status: OK PackageFile: SNPRelate_1.40.0.tar.gz PackageFileSize: 1.914 MiB