Package: SNPRelate Version: 1.40.0 Command: F:\biocbuild\bbs-3.20-bioc\R\bin\R.exe CMD INSTALL SNPRelate StartedAt: 2025-02-10 15:31:26 -0500 (Mon, 10 Feb 2025) EndedAt: 2025-02-10 15:32:59 -0500 (Mon, 10 Feb 2025) EllapsedTime: 92.9 seconds RetCode: 0 Status: OK