Package: SNPRelate Version: 1.40.0 Command: /home/biocbuild/R/R/bin/R CMD check --install=check:SNPRelate.install-out.txt --library=/home/biocbuild/R/R/site-library --no-vignettes --timings SNPRelate_1.40.0.tar.gz StartedAt: 2025-02-11 10:35:17 -0000 (Tue, 11 Feb 2025) EndedAt: 2025-02-11 10:38:29 -0000 (Tue, 11 Feb 2025) EllapsedTime: 192.2 seconds RetCode: 0 Status: OK CheckDir: SNPRelate.Rcheck Warnings: 0