Package: SNPRelate Version: 1.40.0 Command: /home/biocbuild/R/R/bin/R CMD INSTALL SNPRelate StartedAt: 2025-02-03 20:26:15 -0000 (Mon, 03 Feb 2025) EndedAt: 2025-02-03 20:27:01 -0000 (Mon, 03 Feb 2025) EllapsedTime: 45.6 seconds RetCode: 0 Status: OK