Package: SNPhood Version: 1.36.0 Command: /Library/Frameworks/R.framework/Resources/bin/R CMD build --keep-empty-dirs --no-resave-data SNPhood StartedAt: 2025-02-04 08:38:23 -0500 (Tue, 04 Feb 2025) EndedAt: 2025-02-04 08:43:56 -0500 (Tue, 04 Feb 2025) EllapsedTime: 332.6 seconds RetCode: 0 Status: OK PackageFile: SNPhood_1.36.0.tar.gz PackageFileSize: 6.775 MiB