Package: SNPhood Version: 1.36.0 Command: /Library/Frameworks/R.framework/Resources/bin/R CMD INSTALL SNPhood StartedAt: 2025-02-03 15:58:47 -0500 (Mon, 03 Feb 2025) EndedAt: 2025-02-03 16:00:01 -0500 (Mon, 03 Feb 2025) EllapsedTime: 73.4 seconds RetCode: 0 Status: OK