Package: SNPhood Version: 1.36.0 Command: /Library/Frameworks/R.framework/Resources/bin/R CMD INSTALL SNPhood StartedAt: 2025-02-03 15:47:19 -0500 (Mon, 03 Feb 2025) EndedAt: 2025-02-03 15:49:33 -0500 (Mon, 03 Feb 2025) EllapsedTime: 134.0 seconds RetCode: 0 Status: OK