Package: SNPhood Version: 1.36.0 Command: /home/biocbuild/bbs-3.20-bioc/R/bin/R CMD INSTALL SNPhood StartedAt: 2025-01-30 15:23:49 -0500 (Thu, 30 Jan 2025) EndedAt: 2025-01-30 15:24:53 -0500 (Thu, 30 Jan 2025) EllapsedTime: 64.1 seconds RetCode: 0 Status: OK