Package: SNPhood Version: 1.36.0 Command: rm -rf SNPhood.buildbin-libdir && mkdir SNPhood.buildbin-libdir && F:\biocbuild\bbs-3.20-bioc\R\bin\R.exe CMD INSTALL --build --library=SNPhood.buildbin-libdir SNPhood_1.36.0.tar.gz StartedAt: 2025-02-04 09:33:56 -0500 (Tue, 04 Feb 2025) EndedAt: 2025-02-04 09:35:24 -0500 (Tue, 04 Feb 2025) EllapsedTime: 88.2 seconds RetCode: 0 Status: OK PackageFile: SNPhood_1.36.0.zip PackageFileSize: 6.862 MiB