Package: SNPhood Version: 1.36.0 Command: chmod a+r SNPhood -R && F:\biocbuild\bbs-3.20-bioc\R\bin\R.exe CMD build --keep-empty-dirs --no-resave-data SNPhood StartedAt: 2025-01-30 21:58:23 -0500 (Thu, 30 Jan 2025) EndedAt: 2025-01-30 22:05:00 -0500 (Thu, 30 Jan 2025) EllapsedTime: 396.2 seconds RetCode: 0 Status: OK PackageFile: SNPhood_1.36.0.tar.gz PackageFileSize: 5.061 MiB